BEGIN:VCALENDAR
VERSION:2.0
PRODID:-//Enjoy Tiverton - ECPv6.0.11//NONSGML v1.0//EN
CALSCALE:GREGORIAN
METHOD:PUBLISH
X-WR-CALNAME:Enjoy Tiverton
X-ORIGINAL-URL:https://enjoytiverton.org
X-WR-CALDESC:Events for Enjoy Tiverton
REFRESH-INTERVAL;VALUE=DURATION:PT1H
X-Robots-Tag:noindex
X-PUBLISHED-TTL:PT1H
BEGIN:VTIMEZONE
TZID:America/New_York
BEGIN:DAYLIGHT
TZOFFSETFROM:-0500
TZOFFSETTO:-0400
TZNAME:EDT
DTSTART:20210314T070000
END:DAYLIGHT
BEGIN:STANDARD
TZOFFSETFROM:-0400
TZOFFSETTO:-0500
TZNAME:EST
DTSTART:20211107T060000
END:STANDARD
END:VTIMEZONE
BEGIN:VEVENT
DTSTART;TZID=America/New_York:20210203T183000
DTEND;TZID=America/New_York:20210203T193000
DTSTAMP:20260421T122652
CREATED:20201227T182840Z
LAST-MODIFIED:20201227T182840Z
UID:352-1612377000-1612380600@enjoytiverton.org
SUMMARY:Virtual Evening with the Author: Rich Webb\, 'Boats Against the Current'f
DESCRIPTION:Join us for an evening with author Richard Webb\, who will discuss his book Boats Against the Current. \nScott and Zelda Fitzgerald honeymooned for 5 months in the summer of 1920 in a modest gray house near the beach in Westport\, CT. It was an experience that had a more profound impact on both of their collective works than any other place they lived. Awash with money from the recent success of Fitzgerald’s first novel\, This Side of Paradise\, the couple lived a wild life of drinking\, driving\, and endless partying. As it happens\, they were neighbors to a larger-than-life reclusive multi-millionaire\, F.E. Lewis. \nIn Boats Against the Current\, Webb explores the possibility that Westport was the real setting for Fitzgerald’s Great Gatsby. The book is illustrated with a fantastic array of never-before-seen photos from the Lewis family\, as well as the scrapbooks of the Fitzgeralds\, period newspaper clippings\, and a myriad of compelling stories about Scott\, Zelda and their fantastically wealthy neighbor. \nRegister on event page.
URL:https://enjoytiverton.org/event/virtual-evening-with-the-author-rich-webb-boats-against-the-currentf/
LOCATION:RI
CATEGORIES:Presentation
ATTACH;FMTTYPE=image/jpeg:https://enjoytiverton.org/wp-content/uploads/2020/12/BoatsAgainstTheCurrent.jpg
END:VEVENT
BEGIN:VEVENT
DTSTART;TZID=America/New_York:20210208T190000
DTEND;TZID=America/New_York:20210208T200000
DTSTAMP:20260421T122652
CREATED:20210104T215349Z
LAST-MODIFIED:20210104T215349Z
UID:358-1612810800-1612814400@enjoytiverton.org
SUMMARY:Virtual Presentation: Presidential Landmarks in New England
DESCRIPTION:Do you know where in New England… \n\nThe oath of office was taken by a President of the United States?\nA plaque commemorates a Presidential visit to a bar?\nYou can see a coconut that saved a President’s life?\nA former President\, accused of being a traitor\, was almost lynched?\n\nIn this presentation\, audiences will take a 50-minute trip through 200 years of the U.S. Presidency\, focusing on the native New Englanders who called the White House home. Together\, we will visit most of the sites in New England dedicated to the United States Presidents\, including birthplaces\, homes\, libraries\, and yes\, even bars. This combination history and travelogue will be of interest to both the historically minded and tourist alike. \nRegister on event page.
URL:https://enjoytiverton.org/event/virtual-presentation-presidential-landmarks-in-new-england/
LOCATION:Tiverton Library\, 34 Roosevelt Ave.\, Tiverton\, RI\, 02878\, United States
CATEGORIES:Presentation
ATTACH;FMTTYPE=image/jpeg:https://enjoytiverton.org/wp-content/uploads/2021/01/PresidentialSeal.jpg
END:VEVENT
BEGIN:VEVENT
DTSTART;TZID=America/New_York:20210208T190000
DTEND;TZID=America/New_York:20210208T220000
DTSTAMP:20260421T122652
CREATED:20210118T182103Z
LAST-MODIFIED:20210118T182103Z
UID:377-1612810800-1612821600@enjoytiverton.org
SUMMARY:Tiverton Town Council
DESCRIPTION:This is a regular meeting of the Tiverton Town Council\, the executive committee of town government.  (Note that the information provided on this page is the generic schedule provided at the beginning of the year and may vary\, for example by being conducted on Zoom rather than at Town Hall.)
URL:https://enjoytiverton.org/event/tiverton-town-council-21/
LOCATION:Tiverton Town Hall\, 343 Highland Rd.\, Tiverton\, RI\, 02878\, United States
CATEGORIES:Town Government
ATTACH;FMTTYPE=image/jpeg:https://enjoytiverton.org/wp-content/uploads/2020/03/tiverton-townhall-featured.jpg
END:VEVENT
BEGIN:VEVENT
DTSTART;TZID=America/New_York:20210209T140000
DTEND;TZID=America/New_York:20210209T173000
DTSTAMP:20260421T122652
CREATED:20210208T205852Z
LAST-MODIFIED:20210208T205852Z
UID:480-1612879200-1612891800@enjoytiverton.org
SUMMARY:Tiverton Farmers Market
DESCRIPTION:A Local Farmers Market situated right smack in the middle of this cozy town of Tiverton\, RI. Connecting the community to FRESH & LOCAL produce\, agriculture & workshops coming soon. \nVendor Line-up \n\n\n\n\nBeth Bakes\nBuns Bakery\nCoastal Greens – Micro Greens\nFieldstone Kombucha\nFirefly Mandalas & Meredith Brower Photography – Note cards and mini notes\nGabba Gabba Naturals – soaps and honey\nGnarly Vines Farm – Eggs\, Meats & Prepared Meals\nGoddex Apothecary\ngoTeff – Super Foods\njuniper.hill.apothecary – candles\nNo Joke Smoke BBQ – sauces and prepared meals\, spices\nSakonnet Lobster Co. & Crabs\nSalubrious Endeavors – Pottery\nSalt Air Linen – clothes and linens\n\n\n  \n\n\n 
URL:https://enjoytiverton.org/event/tiverton-farmers-market-4/
LOCATION:Sandywoods Center for the Arts\, 43 Muse Way\, Tiverton\, RI\, United States
CATEGORIES:Fair/market,Feature Event
ATTACH;FMTTYPE=image/jpeg:https://enjoytiverton.org/wp-content/uploads/2020/11/Sandywoods-FarmersMarket.jpg
END:VEVENT
BEGIN:VEVENT
DTSTART;TZID=America/New_York:20210209T190000
DTEND;TZID=America/New_York:20210209T220000
DTSTAMP:20260421T122652
CREATED:20210118T182956Z
LAST-MODIFIED:20210118T182956Z
UID:423-1612897200-1612908000@enjoytiverton.org
SUMMARY:Tiverton School Committee
DESCRIPTION:This is a regular meeting of the Tiverton School Committee\, the decision-making committee of the school department in town government.  (Note that the information provided on this page is the generic schedule provided at the beginning of the year and may vary\, for example by being conducted on Zoom rather than at the high school.)
URL:https://enjoytiverton.org/event/tiverton-school-committee-9/
LOCATION:Tiverton High School Library\, 100 North Brayton Rd.\, Tiverton\, RI\, 02878\, United States
CATEGORIES:Town Government
ATTACH;FMTTYPE=image/jpeg:https://enjoytiverton.org/wp-content/uploads/2020/02/tivertonhighschool-featured.jpg
END:VEVENT
BEGIN:VEVENT
DTSTART;TZID=America/New_York:20210213T120000
DTEND;TZID=America/New_York:20210213T160000
DTSTAMP:20260421T122652
CREATED:20210119T223716Z
LAST-MODIFIED:20210119T223753Z
UID:465-1613217600-1613232000@enjoytiverton.org
SUMMARY:Valentines Pop-up Market
DESCRIPTION:Grab your loved ones and join us in another Pop-up Market to celebrate Valentine’s Day. \nSaturday\, February 13th\, 12-4pm at the Sandywoods Venue\, located at 43 Muse Way\, Tiverton RI 02878\nPresented by @TivertonFarmersMarket it is sure to be a fabulous event! \nFeaturing an amazing array of vendors with Valentine’s Day Specials\, local\, handmade products & Gift Certificates available. \nLive Music\, Photo Wall\, Give-aways and More . . .Stay tuned and Save the Date! \nLive Music by MEL \nVendors listing:\nAndiamo Woodworking & Design\nBarehand Creations\nBuns Bakery\nCoastal Greens\nCoastline Horse Treats\nCreative Designs by Liz\nEarth Essence Herbals\nFieldstone Kombucha\nGabba Gabba Naturals & Soaps\nGary Janczynski – Art Wall\nGoTeff – SuperFood\nHoney & Vine Apothercary\nLilly’s Bone to Pick\nMermaids Baubles & Momma’s Corner\nNo Joke Smoke BBQ\nPaper Quilling by Kim\nSakonnet Lobster\nSalubrious Endeavors\nTown Farm Tonics\nWolfe and Hound\nJuniper Hill Apothecary\nZ Pita Chipz\nViolet Drury Jewelry\nCaptain’s Finest Seafood\nFrom The Ground Up Decor \nThe Tiverton Farmer’s Market Connects the community to FRESH & LOCAL foods\, products\, makers & artists in a safe and inclusive way. Please safely enjoy our events. \n***COVID 19 rules and regulations for attendees: All attendees must wear masks. All windows and doors will be open to circulate air flow. Please respect social distancing and one-way direction for entry/exit and shopping. Sanitizer provided.\nEntry to the Pop-up market is FREE and open to the public\, with ample free parking. Handicap access ramps and parking also available.*** \nJoin us and support local!
URL:https://enjoytiverton.org/event/valentines-pop-up-market/
LOCATION:Sandywoods Center for the Arts\, 43 Muse Way\, Tiverton\, RI\, United States
CATEGORIES:Fair/market,Feature Event
ATTACH;FMTTYPE=image/jpeg:https://enjoytiverton.org/wp-content/uploads/2021/01/ValentinesPopUp2021.jpg
END:VEVENT
BEGIN:VEVENT
DTSTART;TZID=America/New_York:20210213T120000
DTEND;TZID=America/New_York:20210213T160000
DTSTAMP:20260421T122652
CREATED:20210129T004338Z
LAST-MODIFIED:20210129T004338Z
UID:477-1613217600-1613232000@enjoytiverton.org
SUMMARY:Tiverton Farmers Market Valentine's Pop-Up Market
DESCRIPTION:A Local Farmers Market situated right smack in the middle of this cozy town of Tiverton\, RI. Connecting the community to FRESH & LOCAL produce\, agriculture & workshops coming soon. \nVendor Line-up \n\n\n\nAndiamo Woodworking & Design\nBarehand Creations\nBuns Bakery\nCoastal Greens – Micro Greens\nCoastline Horse & Dog Treats\nCreative Designs by Liz\nEarth Essence Herbals\nFieldstone Kombucha\nGabba Gabba Naturals\nGnarly Vines Farm\nGoTeff – SuperFood\nHoney & Vine Apothecary\nLilly’s Bone to Pick\nMermaids Baubles\nMomma’s Corner\nNo Joke Smoke BBQ\nPaper Quilling by Kim\nSakonnet Lobster Co. & Crabs\nSalubrious Endeavors – Pottery\nTown Farm Tonics\nWolfe and Hound\nJuniper Hill Apothecary\nZ Pita Chipz\nViolet Drury Jewelry\n\n\n\n 
URL:https://enjoytiverton.org/event/tiverton-farmers-market-valentines-pop-up-market/
LOCATION:Sandywoods Center for the Arts\, 43 Muse Way\, Tiverton\, RI\, United States
CATEGORIES:Fair/market,Feature Event
ATTACH;FMTTYPE=image/jpeg:https://enjoytiverton.org/wp-content/uploads/2020/11/Sandywoods-FarmersMarket.jpg
END:VEVENT
BEGIN:VEVENT
DTSTART;TZID=America/New_York:20210217T183000
DTEND;TZID=America/New_York:20210217T200000
DTSTAMP:20260421T122652
CREATED:20210104T215544Z
LAST-MODIFIED:20210104T215544Z
UID:361-1613586600-1613592000@enjoytiverton.org
SUMMARY:Virtual Presentation: The Ultimate Presentation for Red Sox Nation
DESCRIPTION:Take a fun and enlightening journey through Boston Red Sox history with the author of the Ultimate Boston Red Sox Time Machine Book. This presentation features videos and photographs of the greatest and most fascinating players\, teams\, events and moments in franchise history. The program also includes trivia questions for patrons to ponder and covers Sox history from the Royal Rooters\, who launched Red Sox Nation\, all the way to the four World Series championships and beyond. It will conclude with a question-and-answer period. Author Martin Gitlin will have autographed and personalized copies of his book available online following the program. \nRegister on event page.
URL:https://enjoytiverton.org/event/virtual-presentation-the-ultimate-presentation-for-red-sox-nation/
LOCATION:Tiverton Library\, 34 Roosevelt Ave.\, Tiverton\, RI\, 02878\, United States
CATEGORIES:Presentation
ATTACH;FMTTYPE=image/jpeg:https://enjoytiverton.org/wp-content/uploads/2021/01/BaseballStadium-scaled.jpg
END:VEVENT
BEGIN:VEVENT
DTSTART;TZID=America/New_York:20210220T150000
DTEND;TZID=America/New_York:20210220T160000
DTSTAMP:20260421T122652
CREATED:20210104T220329Z
LAST-MODIFIED:20210104T220329Z
UID:364-1613833200-1613836800@enjoytiverton.org
SUMMARY:Winter Food Festival with Simply Creative Chef Rob Scott
DESCRIPTION:Join us for a Live Facebook event with Simply Creative Chef Rob Scott. This is a wonderful family event where everyone can make an appetizer\, entree\, and dessert with Chef Rob. \nIn this installment of the Winter Food Festival\, Chef Rob will make tomato basil\, mozzarella quesadillas with a parmesan crust; panko chicken Milanese with blistered tomatoes and basil sauce; and the ultimate chocolate chip oatmeal cookie. Recipes will be shared on our Facebook page in the days leading up to the event. \nNo registration necessary\, just go to the Tiverton Library Services RI Facebook page on January 23rd at 3:00pm.
URL:https://enjoytiverton.org/event/winter-food-festival-with-simply-creative-chef-rob-scott-2/
LOCATION:RI
CATEGORIES:Presentation
ATTACH;FMTTYPE=image/jpeg:https://enjoytiverton.org/wp-content/uploads/2020/12/ChefRobScott.jpg
END:VEVENT
BEGIN:VEVENT
DTSTART;TZID=America/New_York:20210222T190000
DTEND;TZID=America/New_York:20210222T220000
DTSTAMP:20260421T122652
CREATED:20210118T182132Z
LAST-MODIFIED:20210118T182132Z
UID:379-1614020400-1614031200@enjoytiverton.org
SUMMARY:Tiverton Town Council
DESCRIPTION:This is a regular meeting of the Tiverton Town Council\, the executive committee of town government.  (Note that the information provided on this page is the generic schedule provided at the beginning of the year and may vary\, for example by being conducted on Zoom rather than at Town Hall.)
URL:https://enjoytiverton.org/event/tiverton-town-council-22/
LOCATION:Tiverton Town Hall\, 343 Highland Rd.\, Tiverton\, RI\, 02878\, United States
CATEGORIES:Town Government
ATTACH;FMTTYPE=image/jpeg:https://enjoytiverton.org/wp-content/uploads/2020/03/tiverton-townhall-featured.jpg
END:VEVENT
BEGIN:VEVENT
DTSTART;TZID=America/New_York:20210223T140000
DTEND;TZID=America/New_York:20210223T173000
DTSTAMP:20260421T122652
CREATED:20210222T193116Z
LAST-MODIFIED:20210222T193116Z
UID:515-1614088800-1614101400@enjoytiverton.org
SUMMARY:Tiverton Farmers Market
DESCRIPTION:A Local Farmers Market situated right smack in the middle of this cozy town of Tiverton\, RI. Connecting the community to FRESH & LOCAL produce\, agriculture & workshops coming soon. \nVendor Line-up \n\n\n\n\nBeth Bakes -gluten free crackers and cookies\nBuns Bakery\nCoastal Greens – Micro Greens\nFieldstone Kombucha\nFirefly Mandalas & Meredith Brower Photography – Note Cards & Photographs\nGnarly Vines Farm – Eggs\, Meats & Prepared Meals\ngoTeff – Super Foods\nJuniper Hill Apothecary – Candles\nNo Joke Smoke BBQ Sauces & prepared meals\nSakonnet Lobster Co. & Crabs\nSalubrious Endeavors – Pottery\nSalt Air Linen – linens\, table runners\,aprons\, children’s clothing and more…\n\n\n  \n\n\n 
URL:https://enjoytiverton.org/event/tiverton-farmers-market-5/
LOCATION:Sandywoods Center for the Arts\, 43 Muse Way\, Tiverton\, RI\, United States
CATEGORIES:Fair/market,Feature Event
ATTACH;FMTTYPE=image/jpeg:https://enjoytiverton.org/wp-content/uploads/2020/11/Sandywoods-FarmersMarket.jpg
END:VEVENT
BEGIN:VEVENT
DTSTART;TZID=America/New_York:20210223T190000
DTEND;TZID=America/New_York:20210223T220000
DTSTAMP:20260421T122652
CREATED:20210118T183010Z
LAST-MODIFIED:20210118T183010Z
UID:425-1614106800-1614117600@enjoytiverton.org
SUMMARY:Tiverton School Committee
DESCRIPTION:This is a regular meeting of the Tiverton School Committee\, the decision-making committee of the school department in town government.  (Note that the information provided on this page is the generic schedule provided at the beginning of the year and may vary\, for example by being conducted on Zoom rather than at the high school.)
URL:https://enjoytiverton.org/event/tiverton-school-committee-10/
LOCATION:Tiverton High School Library\, 100 North Brayton Rd.\, Tiverton\, RI\, 02878\, United States
CATEGORIES:Town Government
ATTACH;FMTTYPE=image/jpeg:https://enjoytiverton.org/wp-content/uploads/2020/02/tivertonhighschool-featured.jpg
END:VEVENT
BEGIN:VEVENT
DTSTART;TZID=America/New_York:20210224T183000
DTEND;TZID=America/New_York:20210224T193000
DTSTAMP:20260421T122652
CREATED:20210104T220851Z
LAST-MODIFIED:20210216T203724Z
UID:366-1614191400-1614195000@enjoytiverton.org
SUMMARY:Virtual Presentation: Meditation\, An Antidote to Stress
DESCRIPTION:Explore the healing power of meditation and learn how to create peace in your life in spite of the stress around you. This simple technique can be practiced daily for health\, serenity\, and joy. Facilitated by Arlene Samsel\, a long-time meditator and instructor. \nRegister on event page.
URL:https://enjoytiverton.org/event/virtual-presentation-meditation-an-antidote-to-stress/
LOCATION:Tiverton Library\, 34 Roosevelt Ave.\, Tiverton\, RI\, 02878\, United States
CATEGORIES:Presentation
ATTACH;FMTTYPE=image/jpeg:https://enjoytiverton.org/wp-content/uploads/2021/01/StackedStones-scaled.jpg
END:VEVENT
END:VCALENDAR