BEGIN:VCALENDAR
VERSION:2.0
PRODID:-//Enjoy Tiverton - ECPv6.0.11//NONSGML v1.0//EN
CALSCALE:GREGORIAN
METHOD:PUBLISH
X-ORIGINAL-URL:https://enjoytiverton.org
X-WR-CALDESC:Events for Enjoy Tiverton
REFRESH-INTERVAL;VALUE=DURATION:PT1H
X-Robots-Tag:noindex
X-PUBLISHED-TTL:PT1H
BEGIN:VTIMEZONE
TZID:America/New_York
BEGIN:DAYLIGHT
TZOFFSETFROM:-0500
TZOFFSETTO:-0400
TZNAME:EDT
DTSTART:20230312T070000
END:DAYLIGHT
BEGIN:STANDARD
TZOFFSETFROM:-0400
TZOFFSETTO:-0500
TZNAME:EST
DTSTART:20231105T060000
END:STANDARD
END:VTIMEZONE
BEGIN:VEVENT
DTSTART;TZID=America/New_York:20230617T170000
DTEND;TZID=America/New_York:20230617T190000
DTSTAMP:20260422T182420
CREATED:20230430T160336Z
LAST-MODIFIED:20230430T160336Z
UID:686-1687021200-1687028400@enjoytiverton.org
SUMMARY:Grand Opening!
DESCRIPTION:Join Cédian Painting Studio & Gallery and Ashley Ainsworth for their GRAND OPENING in their new studio! Enjoy light refreshments and beautiful pieces of ocean art.
URL:https://enjoytiverton.org/event/grand-opening/
LOCATION:Ashley Ainsworth & Jennifer Jones Rashleigh\, 3848 Main Road\, Tiverton Four Corners\, RI\, 02878\, United States
CATEGORIES:Art
ATTACH;FMTTYPE=image/jpeg:https://enjoytiverton.org/wp-content/uploads/2023/04/Grand-opening.jpg
END:VEVENT
END:VCALENDAR