BEGIN:VCALENDAR
VERSION:2.0
PRODID:-//Enjoy Tiverton - ECPv6.0.11//NONSGML v1.0//EN
CALSCALE:GREGORIAN
METHOD:PUBLISH
X-WR-CALNAME:Enjoy Tiverton
X-ORIGINAL-URL:https://enjoytiverton.org
X-WR-CALDESC:Events for Enjoy Tiverton
REFRESH-INTERVAL;VALUE=DURATION:PT1H
X-Robots-Tag:noindex
X-PUBLISHED-TTL:PT1H
BEGIN:VTIMEZONE
TZID:America/New_York
BEGIN:DAYLIGHT
TZOFFSETFROM:-0500
TZOFFSETTO:-0400
TZNAME:EDT
DTSTART:20210314T070000
END:DAYLIGHT
BEGIN:STANDARD
TZOFFSETFROM:-0400
TZOFFSETTO:-0500
TZNAME:EST
DTSTART:20211107T060000
END:STANDARD
END:VTIMEZONE
BEGIN:VEVENT
DTSTART;TZID=America/New_York:20210501T070000
DTEND;TZID=America/New_York:20211031T203000
DTSTAMP:20260422T130721
CREATED:20210429T232454Z
LAST-MODIFIED:20210429T232635Z
UID:559-1619852400-1635712200@enjoytiverton.org
SUMMARY:Four Corners Arts Center Sculpture Park Season
DESCRIPTION:The 2021 Sculpture Park Season featuring sculptures by Tim Hetland. The park is open to the public from dawn to dusk except during private events. \n\nSat\, May 1\, 20217:00 AM  Sun\, Oct 31\, 20218:30 PM
URL:https://enjoytiverton.org/event/four-corners-arts-center-sculpture-park-season-opens/
LOCATION:Tiverton Four Corners\, 3852 Main Rd\, Tiverton\, RI\, 02878\, United States
CATEGORIES:Art
ATTACH;FMTTYPE=image/jpeg:https://enjoytiverton.org/wp-content/uploads/2021/04/Gaia2.jpg
END:VEVENT
BEGIN:VEVENT
DTSTART;TZID=America/New_York:20210501T160000
DTEND;TZID=America/New_York:20210531T160000
DTSTAMP:20260422T130721
CREATED:20210429T232957Z
LAST-MODIFIED:20210429T232957Z
UID:563-1619884800-1622476800@enjoytiverton.org
SUMMARY:South Coasts Artists Members Invitational
DESCRIPTION:Preview the return of the summer’s OPEN STUDIOS TOURS featuring works from more than 50 of the most popular and accomplished artists from SouthCoastsArtists.org Covid Conscious opening reception May 1st 4-7pm\, rain date May 2
URL:https://enjoytiverton.org/event/south-coasts-artists-members-invitational/
LOCATION:Tiverton Four Corners\, 3852 Main Rd\, Tiverton\, RI\, 02878\, United States
CATEGORIES:Art
ATTACH;FMTTYPE=image/jpeg:https://enjoytiverton.org/wp-content/uploads/2021/04/SouthCoastArtistsMembersInternational.jpg
END:VEVENT
BEGIN:VEVENT
DTSTART;TZID=America/New_York:20210517T183000
DTEND;TZID=America/New_York:20210517T200000
DTSTAMP:20260422T130721
CREATED:20210322T214043Z
LAST-MODIFIED:20210322T214043Z
UID:537-1621276200-1621281600@enjoytiverton.org
SUMMARY:Virtual Presentation: The Ultimate Presentation for Red Sox Nation
DESCRIPTION:Take a fun and enlightening journey through Boston Red Sox history with the author of the Ultimate Boston Red Sox Time Machine Book. This presentation features videos and photographs of the greatest and most fascinating players\, teams\, events and moments in franchise history. The program also includes trivia questions for patrons to ponder and covers Sox history from the Royal Rooters\, who launched Red Sox Nation\, all the way to the four World Series championships and beyond. It will conclude with a question-and-answer period. Author Martin Gitlin will have autographed and personalized copies of his book available online following the program. \nRegister on event page for one of the 20 seats available.
URL:https://enjoytiverton.org/event/virtual-presentation-the-ultimate-presentation-for-red-sox-nation-2/
LOCATION:Tiverton Library\, 34 Roosevelt Ave.\, Tiverton\, RI\, 02878\, United States
CATEGORIES:Presentation
ATTACH;FMTTYPE=image/jpeg:https://enjoytiverton.org/wp-content/uploads/2021/01/BaseballStadium-scaled.jpg
END:VEVENT
END:VCALENDAR