BEGIN:VCALENDAR
VERSION:2.0
PRODID:-//Enjoy Tiverton - ECPv6.0.11//NONSGML v1.0//EN
CALSCALE:GREGORIAN
METHOD:PUBLISH
X-ORIGINAL-URL:https://enjoytiverton.org
X-WR-CALDESC:Events for Enjoy Tiverton
REFRESH-INTERVAL;VALUE=DURATION:PT1H
X-Robots-Tag:noindex
X-PUBLISHED-TTL:PT1H
BEGIN:VTIMEZONE
TZID:America/New_York
BEGIN:DAYLIGHT
TZOFFSETFROM:-0500
TZOFFSETTO:-0400
TZNAME:EDT
DTSTART:20210314T070000
END:DAYLIGHT
BEGIN:STANDARD
TZOFFSETFROM:-0400
TZOFFSETTO:-0500
TZNAME:EST
DTSTART:20211107T060000
END:STANDARD
END:VTIMEZONE
BEGIN:VEVENT
DTSTART;TZID=America/New_York:20210329T183000
DTEND;TZID=America/New_York:20210329T194500
DTSTAMP:20260422T035620
CREATED:20210216T204036Z
LAST-MODIFIED:20210216T204202Z
UID:508-1617042600-1617047100@enjoytiverton.org
SUMMARY:Celebrate Spring! Fresh Cooking Ideas!
DESCRIPTION:Spring is an exciting time of the year when it comes to cooking. It is truly a celebration\, using light\, bright seasonal ingredients\, such as crisp asparagus\, spring peas\, and tender greens. Join us for a monthly “cook along” for fresh ideas highlighting easy-to-make\, heart-healthy spring dishes. \nClick below to register\, and we will send you the recipes and supply list for the class. We will send you information on how to log-in and use Zoom 1 day before the event. This presentation will not be recorded. \nRegister on event page.
URL:https://enjoytiverton.org/event/celebrate-spring-fresh-cooking-ideas/
LOCATION:Tiverton Library\, 34 Roosevelt Ave.\, Tiverton\, RI\, 02878\, United States
CATEGORIES:Presentation
ATTACH;FMTTYPE=image/jpeg:https://enjoytiverton.org/wp-content/uploads/2021/02/CelebrateSpring.jpg
END:VEVENT
END:VCALENDAR