BEGIN:VCALENDAR
VERSION:2.0
PRODID:-//Enjoy Tiverton - ECPv6.0.11//NONSGML v1.0//EN
CALSCALE:GREGORIAN
METHOD:PUBLISH
X-WR-CALNAME:Enjoy Tiverton
X-ORIGINAL-URL:https://enjoytiverton.org
X-WR-CALDESC:Events for Enjoy Tiverton
REFRESH-INTERVAL;VALUE=DURATION:PT1H
X-Robots-Tag:noindex
X-PUBLISHED-TTL:PT1H
BEGIN:VTIMEZONE
TZID:America/New_York
BEGIN:DAYLIGHT
TZOFFSETFROM:-0500
TZOFFSETTO:-0400
TZNAME:EDT
DTSTART:20210314T070000
END:DAYLIGHT
BEGIN:STANDARD
TZOFFSETFROM:-0400
TZOFFSETTO:-0500
TZNAME:EST
DTSTART:20211107T060000
END:STANDARD
END:VTIMEZONE
BEGIN:VEVENT
DTSTART;TZID=America/New_York:20210323T140000
DTEND;TZID=America/New_York:20210323T173000
DTSTAMP:20260422T012030
CREATED:20210322T214618Z
LAST-MODIFIED:20210322T214618Z
UID:543-1616508000-1616520600@enjoytiverton.org
SUMMARY:Tiverton Farmers Market
DESCRIPTION:A Local Farmers Market situated right smack in the middle of this cozy town of Tiverton\, RI. Connecting the community to FRESH & LOCAL produce\, agriculture & workshops coming soon. \nVendor Line-up \n\nBeth Bakes\nBuns Bakery\nCoastal Greens – microgreens\, salads and wheat grasses for people & pets\nERICD – Information\nFieldstone Kombucha\nFirefly Mandalas – note cards\, mini notes and photographs\nGnarly Vines Farm – Eggs\, Meats & Prepared Meals\nGoTeff – Super Food Crisps\nJuniper Hill Apothecary\nNo Joke Smoke BBQ – Sauces\, Spices & Prepared Meals\nSakonnet Lobster & Crabs\nSalubrious Endeavors – Pottery\nSalt Air Linen
URL:https://enjoytiverton.org/event/tiverton-farmers-market-9/
LOCATION:Sandywoods Center for the Arts\, 43 Muse Way\, Tiverton\, RI\, United States
CATEGORIES:Fair/market
ATTACH;FMTTYPE=image/jpeg:https://enjoytiverton.org/wp-content/uploads/2020/11/Sandywoods-FarmersMarket.jpg
END:VEVENT
BEGIN:VEVENT
DTSTART;TZID=America/New_York:20210323T190000
DTEND;TZID=America/New_York:20210323T220000
DTSTAMP:20260422T012030
CREATED:20210118T183042Z
LAST-MODIFIED:20210118T183042Z
UID:429-1616526000-1616536800@enjoytiverton.org
SUMMARY:Tiverton School Committee
DESCRIPTION:This is a regular meeting of the Tiverton School Committee\, the decision-making committee of the school department in town government.  (Note that the information provided on this page is the generic schedule provided at the beginning of the year and may vary\, for example by being conducted on Zoom rather than at the high school.)
URL:https://enjoytiverton.org/event/tiverton-school-committee-12/
LOCATION:Tiverton High School Library\, 100 North Brayton Rd.\, Tiverton\, RI\, 02878\, United States
CATEGORIES:Town Government
ATTACH;FMTTYPE=image/jpeg:https://enjoytiverton.org/wp-content/uploads/2020/02/tivertonhighschool-featured.jpg
END:VEVENT
END:VCALENDAR