BEGIN:VCALENDAR
VERSION:2.0
PRODID:-//Enjoy Tiverton - ECPv6.0.11//NONSGML v1.0//EN
CALSCALE:GREGORIAN
METHOD:PUBLISH
X-WR-CALNAME:Enjoy Tiverton
X-ORIGINAL-URL:https://enjoytiverton.org
X-WR-CALDESC:Events for Enjoy Tiverton
REFRESH-INTERVAL;VALUE=DURATION:PT1H
X-Robots-Tag:noindex
X-PUBLISHED-TTL:PT1H
BEGIN:VTIMEZONE
TZID:America/New_York
BEGIN:DAYLIGHT
TZOFFSETFROM:-0500
TZOFFSETTO:-0400
TZNAME:EDT
DTSTART:20210314T070000
END:DAYLIGHT
BEGIN:STANDARD
TZOFFSETFROM:-0400
TZOFFSETTO:-0500
TZNAME:EST
DTSTART:20211107T060000
END:STANDARD
END:VTIMEZONE
BEGIN:VEVENT
DTSTART;TZID=America/New_York:20210309T140000
DTEND;TZID=America/New_York:20210309T173000
DTSTAMP:20260421T173343
CREATED:20210308T234643Z
LAST-MODIFIED:20210308T234643Z
UID:523-1615298400-1615311000@enjoytiverton.org
SUMMARY:Tiverton Farmers Market
DESCRIPTION:A Local Farmers Market situated right smack in the middle of this cozy town of Tiverton\, RI. Connecting the community to FRESH & LOCAL produce\, agriculture & workshops coming soon. \nVendor Line-up \n\n\n\n\nBeth Bakes\nBuns Bakery\nCoastal Greens – micro greens\, salads & cat grasses\nFieldstone Kombucha\nFirefly Mandalas – Note cards and mini notes\nGirl Scouts – Cookies\nGnarly Vines Farm – Eggs\, Meats & Prepared Meals\nGoddex Apothecary\nGoTeff – Super Foods\nJuniper Hill Apothecary\nNo Joke Smoke BBQ – Sauces\, Spices & Prepared Meals\nSakonnet Lobster & Crabs\nSalubrious Endeavors – Pottery\nSalt Air Linen\n\n\n  \n\n\n 
URL:https://enjoytiverton.org/event/tiverton-farmers-market-7/
LOCATION:Sandywoods Center for the Arts\, 43 Muse Way\, Tiverton\, RI\, United States
CATEGORIES:Fair/market,Feature Event
ATTACH;FMTTYPE=image/jpeg:https://enjoytiverton.org/wp-content/uploads/2020/11/Sandywoods-FarmersMarket.jpg
END:VEVENT
BEGIN:VEVENT
DTSTART;TZID=America/New_York:20210309T190000
DTEND;TZID=America/New_York:20210309T220000
DTSTAMP:20260421T173343
CREATED:20210118T183028Z
LAST-MODIFIED:20210118T183028Z
UID:427-1615316400-1615327200@enjoytiverton.org
SUMMARY:Tiverton School Committee
DESCRIPTION:This is a regular meeting of the Tiverton School Committee\, the decision-making committee of the school department in town government.  (Note that the information provided on this page is the generic schedule provided at the beginning of the year and may vary\, for example by being conducted on Zoom rather than at the high school.)
URL:https://enjoytiverton.org/event/tiverton-school-committee-11/
LOCATION:Tiverton High School Library\, 100 North Brayton Rd.\, Tiverton\, RI\, 02878\, United States
CATEGORIES:Town Government
ATTACH;FMTTYPE=image/jpeg:https://enjoytiverton.org/wp-content/uploads/2020/02/tivertonhighschool-featured.jpg
END:VEVENT
END:VCALENDAR