BEGIN:VCALENDAR
VERSION:2.0
PRODID:-//Enjoy Tiverton - ECPv6.0.11//NONSGML v1.0//EN
CALSCALE:GREGORIAN
METHOD:PUBLISH
X-ORIGINAL-URL:https://enjoytiverton.org
X-WR-CALDESC:Events for Enjoy Tiverton
REFRESH-INTERVAL;VALUE=DURATION:PT1H
X-Robots-Tag:noindex
X-PUBLISHED-TTL:PT1H
BEGIN:VTIMEZONE
TZID:America/New_York
BEGIN:DAYLIGHT
TZOFFSETFROM:-0500
TZOFFSETTO:-0400
TZNAME:EDT
DTSTART:20210314T070000
END:DAYLIGHT
BEGIN:STANDARD
TZOFFSETFROM:-0400
TZOFFSETTO:-0500
TZNAME:EST
DTSTART:20211107T060000
END:STANDARD
END:VTIMEZONE
BEGIN:VEVENT
DTSTART;TZID=America/New_York:20210308T190000
DTEND;TZID=America/New_York:20210308T220000
DTSTAMP:20260421T162409
CREATED:20210118T182147Z
LAST-MODIFIED:20210118T182147Z
UID:381-1615230000-1615240800@enjoytiverton.org
SUMMARY:Tiverton Town Council
DESCRIPTION:This is a regular meeting of the Tiverton Town Council\, the executive committee of town government.  (Note that the information provided on this page is the generic schedule provided at the beginning of the year and may vary\, for example by being conducted on Zoom rather than at Town Hall.)
URL:https://enjoytiverton.org/event/tiverton-town-council-23/
LOCATION:Tiverton Town Hall\, 343 Highland Rd.\, Tiverton\, RI\, 02878\, United States
CATEGORIES:Town Government
ATTACH;FMTTYPE=image/jpeg:https://enjoytiverton.org/wp-content/uploads/2020/03/tiverton-townhall-featured.jpg
END:VEVENT
END:VCALENDAR