BEGIN:VCALENDAR
VERSION:2.0
PRODID:-//Enjoy Tiverton - ECPv6.0.11//NONSGML v1.0//EN
CALSCALE:GREGORIAN
METHOD:PUBLISH
X-WR-CALNAME:Enjoy Tiverton
X-ORIGINAL-URL:https://enjoytiverton.org
X-WR-CALDESC:Events for Enjoy Tiverton
REFRESH-INTERVAL;VALUE=DURATION:PT1H
X-Robots-Tag:noindex
X-PUBLISHED-TTL:PT1H
BEGIN:VTIMEZONE
TZID:America/New_York
BEGIN:DAYLIGHT
TZOFFSETFROM:-0500
TZOFFSETTO:-0400
TZNAME:EDT
DTSTART:20210314T070000
END:DAYLIGHT
BEGIN:STANDARD
TZOFFSETFROM:-0400
TZOFFSETTO:-0500
TZNAME:EST
DTSTART:20211107T060000
END:STANDARD
END:VTIMEZONE
BEGIN:VEVENT
DTSTART;TZID=America/New_York:20210303T190000
DTEND;TZID=America/New_York:20210303T200000
DTSTAMP:20260421T135258
CREATED:20210216T194425Z
LAST-MODIFIED:20210216T194620Z
UID:483-1614798000-1614801600@enjoytiverton.org
SUMMARY:Virtual Presentation: The Civil Rights Kid
DESCRIPTION:Join Ray Rickman in a tour de force presentation as he takes you on his quest for civil rights\, from the 1966 “March Against Fear” in Mississippi with James Meredith\, where he almost lost his life at the hands of the local sheriff\, to taking on the Detroit School Department\, to working side-by-side with Rosa Parks. It’s a story like no other\, filled with courage\, hope\, humor\, and abiding faith. \nLimited to 50 participants. Register on event site.
URL:https://enjoytiverton.org/event/virtual-presentation-the-civil-rights-kid/
LOCATION:Tiverton Library\, 34 Roosevelt Ave.\, Tiverton\, RI\, 02878\, United States
CATEGORIES:Feature Event,Presentation
ATTACH;FMTTYPE=image/jpeg:https://enjoytiverton.org/wp-content/uploads/2021/02/RayRickman.jpg
END:VEVENT
END:VCALENDAR