BEGIN:VCALENDAR
VERSION:2.0
PRODID:-//Enjoy Tiverton - ECPv6.0.11//NONSGML v1.0//EN
CALSCALE:GREGORIAN
METHOD:PUBLISH
X-ORIGINAL-URL:https://enjoytiverton.org
X-WR-CALDESC:Events for Enjoy Tiverton
REFRESH-INTERVAL;VALUE=DURATION:PT1H
X-Robots-Tag:noindex
X-PUBLISHED-TTL:PT1H
BEGIN:VTIMEZONE
TZID:America/New_York
BEGIN:DAYLIGHT
TZOFFSETFROM:-0500
TZOFFSETTO:-0400
TZNAME:EDT
DTSTART:20210314T070000
END:DAYLIGHT
BEGIN:STANDARD
TZOFFSETFROM:-0400
TZOFFSETTO:-0500
TZNAME:EST
DTSTART:20211107T060000
END:STANDARD
END:VTIMEZONE
BEGIN:VEVENT
DTSTART;TZID=America/New_York:20210217T183000
DTEND;TZID=America/New_York:20210217T200000
DTSTAMP:20260421T134826
CREATED:20210104T215544Z
LAST-MODIFIED:20210104T215544Z
UID:361-1613586600-1613592000@enjoytiverton.org
SUMMARY:Virtual Presentation: The Ultimate Presentation for Red Sox Nation
DESCRIPTION:Take a fun and enlightening journey through Boston Red Sox history with the author of the Ultimate Boston Red Sox Time Machine Book. This presentation features videos and photographs of the greatest and most fascinating players\, teams\, events and moments in franchise history. The program also includes trivia questions for patrons to ponder and covers Sox history from the Royal Rooters\, who launched Red Sox Nation\, all the way to the four World Series championships and beyond. It will conclude with a question-and-answer period. Author Martin Gitlin will have autographed and personalized copies of his book available online following the program. \nRegister on event page.
URL:https://enjoytiverton.org/event/virtual-presentation-the-ultimate-presentation-for-red-sox-nation/
LOCATION:Tiverton Library\, 34 Roosevelt Ave.\, Tiverton\, RI\, 02878\, United States
CATEGORIES:Presentation
ATTACH;FMTTYPE=image/jpeg:https://enjoytiverton.org/wp-content/uploads/2021/01/BaseballStadium-scaled.jpg
END:VEVENT
END:VCALENDAR