BEGIN:VCALENDAR
VERSION:2.0
PRODID:-//Enjoy Tiverton - ECPv6.0.11//NONSGML v1.0//EN
CALSCALE:GREGORIAN
METHOD:PUBLISH
X-WR-CALNAME:Enjoy Tiverton
X-ORIGINAL-URL:https://enjoytiverton.org
X-WR-CALDESC:Events for Enjoy Tiverton
REFRESH-INTERVAL;VALUE=DURATION:PT1H
X-Robots-Tag:noindex
X-PUBLISHED-TTL:PT1H
BEGIN:VTIMEZONE
TZID:America/New_York
BEGIN:DAYLIGHT
TZOFFSETFROM:-0500
TZOFFSETTO:-0400
TZNAME:EDT
DTSTART:20210314T070000
END:DAYLIGHT
BEGIN:STANDARD
TZOFFSETFROM:-0400
TZOFFSETTO:-0500
TZNAME:EST
DTSTART:20211107T060000
END:STANDARD
END:VTIMEZONE
BEGIN:VEVENT
DTSTART;TZID=America/New_York:20210126T190000
DTEND;TZID=America/New_York:20210126T220000
DTSTAMP:20260421T122654
CREATED:20210118T182939Z
LAST-MODIFIED:20210118T182939Z
UID:421-1611687600-1611698400@enjoytiverton.org
SUMMARY:Tiverton School Committee
DESCRIPTION:This is a regular meeting of the Tiverton School Committee\, the decision-making committee of the school department in town government.  (Note that the information provided on this page is the generic schedule provided at the beginning of the year and may vary\, for example by being conducted on Zoom rather than at the high school.)
URL:https://enjoytiverton.org/event/tiverton-school-committee-8/
LOCATION:Tiverton High School Library\, 100 North Brayton Rd.\, Tiverton\, RI\, 02878\, United States
CATEGORIES:Town Government
ATTACH;FMTTYPE=image/jpeg:https://enjoytiverton.org/wp-content/uploads/2020/02/tivertonhighschool-featured.jpg
END:VEVENT
END:VCALENDAR