BEGIN:VCALENDAR
VERSION:2.0
PRODID:-//Enjoy Tiverton - ECPv6.0.11//NONSGML v1.0//EN
CALSCALE:GREGORIAN
METHOD:PUBLISH
X-WR-CALNAME:Enjoy Tiverton
X-ORIGINAL-URL:https://enjoytiverton.org
X-WR-CALDESC:Events for Enjoy Tiverton
REFRESH-INTERVAL;VALUE=DURATION:PT1H
X-Robots-Tag:noindex
X-PUBLISHED-TTL:PT1H
BEGIN:VTIMEZONE
TZID:America/New_York
BEGIN:DAYLIGHT
TZOFFSETFROM:-0500
TZOFFSETTO:-0400
TZNAME:EDT
DTSTART:20210314T070000
END:DAYLIGHT
BEGIN:STANDARD
TZOFFSETFROM:-0400
TZOFFSETTO:-0500
TZNAME:EST
DTSTART:20211107T060000
END:STANDARD
END:VTIMEZONE
BEGIN:VEVENT
DTSTART;TZID=America/New_York:20210119T140000
DTEND;TZID=America/New_York:20210119T180000
DTSTAMP:20260421T122657
CREATED:20210118T180523Z
LAST-MODIFIED:20210118T180523Z
UID:370-1611064800-1611079200@enjoytiverton.org
SUMMARY:Tiverton Farmers Market
DESCRIPTION:A Local Farmers Market situated right smack in the middle of this cozy town of Tiverton\, RI. Connecting the community to FRESH & LOCAL produce\, agriculture & workshops coming soon. \nVendor Line-up \n\n\n\nBuns Bakery\nCoastal Greens – Micro Greens\nFieldstone Kombucha\nFirefly Mandalas & Meredith Brower Photography – Note cards\, magnets\, mini notes & photos\nGabba Gabba Naturals\nGnarly Vines Farm – Eggs\, Meats & Prepared Meals\nGoddex Apothecary & Vestal Candle\ngoTeff – Super Foods\nMovement Ground Farm – greens & eggs\nNo Joke Smoke BBQ – sauces & prepared foods\nSakonnet Lobster Co. & Crabs\nSalubrious Endeavors – Pottery\n\n\n\n 
URL:https://enjoytiverton.org/event/tiverton-farmers-market-3/
LOCATION:Sandywoods Center for the Arts\, 43 Muse Way\, Tiverton\, RI\, United States
CATEGORIES:Fair/market,Feature Event
ATTACH;FMTTYPE=image/jpeg:https://enjoytiverton.org/wp-content/uploads/2020/11/Sandywoods-FarmersMarket.jpg
END:VEVENT
END:VCALENDAR