BEGIN:VCALENDAR
VERSION:2.0
PRODID:-//Enjoy Tiverton - ECPv6.0.11//NONSGML v1.0//EN
CALSCALE:GREGORIAN
METHOD:PUBLISH
X-WR-CALNAME:Enjoy Tiverton
X-ORIGINAL-URL:https://enjoytiverton.org
X-WR-CALDESC:Events for Enjoy Tiverton
REFRESH-INTERVAL;VALUE=DURATION:PT1H
X-Robots-Tag:noindex
X-PUBLISHED-TTL:PT1H
BEGIN:VTIMEZONE
TZID:America/New_York
BEGIN:DAYLIGHT
TZOFFSETFROM:-0500
TZOFFSETTO:-0400
TZNAME:EDT
DTSTART:20210314T070000
END:DAYLIGHT
BEGIN:STANDARD
TZOFFSETFROM:-0400
TZOFFSETTO:-0500
TZNAME:EST
DTSTART:20211107T060000
END:STANDARD
END:VTIMEZONE
BEGIN:VEVENT
DTSTART;TZID=America/New_York:20210111T183000
DTEND;TZID=America/New_York:20210111T200000
DTSTAMP:20260421T122655
CREATED:20201227T182324Z
LAST-MODIFIED:20201227T182324Z
UID:346-1610389800-1610395200@enjoytiverton.org
SUMMARY:Virtual Presentation: A Celebration of Animation: The 100 Greatest Cartoon Characters of All-Time
DESCRIPTION:Award-winning author and pop culture historian Martin Gitlin hosts this fun and enlightening presentation for all ages based on his book\, A Celebration of Animation: The 100 Greatest Cartoon Characters in Television History. He is the only author to actually rank the greatest cartoon characters ever\, such as Popeye\, Bugs Bunny\, Mickey Mouse\, Scooby Doo\, Snoopy\, and SpongeBob SquarePants. \nMartin will show funny cartoon snippets of characters from the past century\, play trivia with patrons\, discuss the criteria he used to rank the best of the best and speak about their impact on American pop culture. Adults\, teens\, kids …. This program is fun for everyone! Marty will have autographed and personalized copies of his book available online for purchase after the event. \nRegister on event page.
URL:https://enjoytiverton.org/event/virtual-presentation-a-celebration-of-animation-the-100-greatest-cartoon-characters-of-all-time/
LOCATION:Tiverton Library\, 34 Roosevelt Ave.\, Tiverton\, RI\, 02878\, United States
CATEGORIES:Presentation
ATTACH;FMTTYPE=image/jpeg:https://enjoytiverton.org/wp-content/uploads/2020/12/cartoonbook-scaled.jpg
END:VEVENT
END:VCALENDAR