BEGIN:VCALENDAR
VERSION:2.0
PRODID:-//Enjoy Tiverton - ECPv6.0.11//NONSGML v1.0//EN
CALSCALE:GREGORIAN
METHOD:PUBLISH
X-WR-CALNAME:Enjoy Tiverton
X-ORIGINAL-URL:https://enjoytiverton.org
X-WR-CALDESC:Events for Enjoy Tiverton
REFRESH-INTERVAL;VALUE=DURATION:PT1H
X-Robots-Tag:noindex
X-PUBLISHED-TTL:PT1H
BEGIN:VTIMEZONE
TZID:America/New_York
BEGIN:DAYLIGHT
TZOFFSETFROM:-0500
TZOFFSETTO:-0400
TZNAME:EDT
DTSTART:20200308T070000
END:DAYLIGHT
BEGIN:STANDARD
TZOFFSETFROM:-0400
TZOFFSETTO:-0500
TZNAME:EST
DTSTART:20201101T060000
END:STANDARD
END:VTIMEZONE
BEGIN:VEVENT
DTSTART;TZID=America/New_York:20201229T140000
DTEND;TZID=America/New_York:20201229T180000
DTSTAMP:20260421T110359
CREATED:20201227T181603Z
LAST-MODIFIED:20201227T181603Z
UID:341-1609250400-1609264800@enjoytiverton.org
SUMMARY:Tiverton Farmers Market
DESCRIPTION:A Local Farmers Market situated right smack in the middle of this cozy town of Tiverton\, RI. Connecting the community to FRESH & LOCAL produce\, agriculture & workshops coming soon. \nVendor Line-up \n\n\n\nBeth Bakes – Gluten free crackers & Cookies\nBuns Bakery\nCoastal Greens – Micro Greens\nFieldstone Kombucha\nFirefly Mandalas & Meredith Brower Photography – Note cards and mini notes\nGnarly Vines Farm – Eggs\, Meats & Prepared Meals\nGoddex Apothecary & @Vestal Candle\ngoTeff – Super Foods\nLillys Bone To Pick – Dog Treats and Collars\nMovement Ground Farm – Greens & quail eggs\nNo Joke Smoke BBQ\nPeppermint Panda Bakery\nSalubrious Endeavors – Pottery\n\n\n\n 
URL:https://enjoytiverton.org/event/tiverton-farmers-market/
LOCATION:Sandywoods Center for the Arts\, 43 Muse Way\, Tiverton\, RI\, United States
CATEGORIES:Fair/market,Feature Event
ATTACH;FMTTYPE=image/jpeg:https://enjoytiverton.org/wp-content/uploads/2020/11/Sandywoods-FarmersMarket.jpg
END:VEVENT
BEGIN:VEVENT
DTSTART;TZID=America/New_York:20201229T180000
DTEND;TZID=America/New_York:20201229T233000
DTSTAMP:20260421T110359
CREATED:20201130T231521Z
LAST-MODIFIED:20201130T231521Z
UID:326-1609264800-1609284600@enjoytiverton.org
SUMMARY:VIRTUAL Retro Game Club – Winter Games Edition: Player's Choice
DESCRIPTION:Tuesdays in December\, 6pm in our Discord Server\nJoin us in the Retro Game Club Discord while we play videogames online Tuesday nights in December. Each week will feature a different game to play together. For the final week\, you the players get to select your favorite game. Here is the RGC! Winter Games lineup:\nDecember 1st – Among Us http://www.innersloth.com/gameAmongUs.php \nDecember 8th – Rocket League https://www.rocketleague.com/ \nDecember 15th – Jackbox https://www.jackboxgames.com/ \nDecember 22nd – Brawlhalla https://www.brawlhalla.com/ \nDecember 29th – Players Choice \nYou can visit the RGC! Discord Server any time for videogame resources and information. There are links for your favorite retro and modern games and systems\, as well as resources for playing and making games. The Discord Server also has text and voice chat channels to meet up and play together with your friends.
URL:https://enjoytiverton.org/event/virtual-retro-game-club-winter-games-edition-players-choice/
LOCATION:Tiverton Library\, 34 Roosevelt Ave.\, Tiverton\, RI\, 02878\, United States
CATEGORIES:Games
END:VEVENT
END:VCALENDAR