BEGIN:VCALENDAR
VERSION:2.0
PRODID:-//Enjoy Tiverton - ECPv6.0.11//NONSGML v1.0//EN
CALSCALE:GREGORIAN
METHOD:PUBLISH
X-ORIGINAL-URL:https://enjoytiverton.org
X-WR-CALDESC:Events for Enjoy Tiverton
REFRESH-INTERVAL;VALUE=DURATION:PT1H
X-Robots-Tag:noindex
X-PUBLISHED-TTL:PT1H
BEGIN:VTIMEZONE
TZID:America/New_York
BEGIN:DAYLIGHT
TZOFFSETFROM:-0500
TZOFFSETTO:-0400
TZNAME:EDT
DTSTART:20200308T070000
END:DAYLIGHT
BEGIN:STANDARD
TZOFFSETFROM:-0400
TZOFFSETTO:-0500
TZNAME:EST
DTSTART:20201101T060000
END:STANDARD
END:VTIMEZONE
BEGIN:VEVENT
DTSTART;TZID=America/New_York:20201219T120000
DTEND;TZID=America/New_York:20201219T160000
DTSTAMP:20260421T111609
CREATED:20201202T233446Z
LAST-MODIFIED:20201202T233446Z
UID:328-1608379200-1608393600@enjoytiverton.org
SUMMARY:Christmas Pop-Up Market
DESCRIPTION:A Christmas Pop-up Market on Saturday\, Dec 19th\, 12-4pm\, featuring all of our vendors seasons specials.\nConnecting the community to FRESH & LOCAL foods\, products\, makers & artists.\nVendors May vary: TBA\nFOOD:\nBuns Bakery\nCoastal Greens\nFieldstone Kombucha\nGnarly Vines\nSakonnet Lobster\nScallops\, A New England Coastal Cookbook\nThe Holistic Trick\nYoung Family Farm\nTown Farm Tonics\nZ Pita Chipz\nART/DESIGN/GIFTS:\nAvant Gardens\nChryssa Udvardy Ceramics\nCreative Designs by Liz\nDapper Flapper\nFirefly Mandalas\nGina’s Vintage\nInsidesigns\nJFD woodworking\nJodiBees LLC\, A Hive of learning\nLaura Golding Jewelry\nMermaids Baubles\nNeuMoon Malas\nNicole Lebreux Designs\nPlease Sit Down Caning\nRevive Home & Garden\nSalubrious Endeavors\nSeaside Botanicals\nOceanside Treasures\nJocelyn Sherman- PTO\nWolfe and Hound\nMusic by Julio Amaro
URL:https://enjoytiverton.org/event/christmas-pop-up-market/
LOCATION:Sandywoods Center for the Arts\, 43 Muse Way\, Tiverton\, RI\, United States
CATEGORIES:Fair/market,Feature Event
ATTACH;FMTTYPE=image/jpeg:https://enjoytiverton.org/wp-content/uploads/2020/12/HolidayPopUp-Sandywoods.jpg
END:VEVENT
END:VCALENDAR