BEGIN:VCALENDAR
VERSION:2.0
PRODID:-//Enjoy Tiverton - ECPv6.0.11//NONSGML v1.0//EN
CALSCALE:GREGORIAN
METHOD:PUBLISH
X-WR-CALNAME:Enjoy Tiverton
X-ORIGINAL-URL:https://enjoytiverton.org
X-WR-CALDESC:Events for Enjoy Tiverton
REFRESH-INTERVAL;VALUE=DURATION:PT1H
X-Robots-Tag:noindex
X-PUBLISHED-TTL:PT1H
BEGIN:VTIMEZONE
TZID:America/New_York
BEGIN:DAYLIGHT
TZOFFSETFROM:-0500
TZOFFSETTO:-0400
TZNAME:EDT
DTSTART:20200308T070000
END:DAYLIGHT
BEGIN:STANDARD
TZOFFSETFROM:-0400
TZOFFSETTO:-0500
TZNAME:EST
DTSTART:20201101T060000
END:STANDARD
END:VTIMEZONE
BEGIN:VEVENT
DTSTART;TZID=America/New_York:20201215T140000
DTEND;TZID=America/New_York:20201215T180000
DTSTAMP:20260421T110357
CREATED:20201214T233505Z
LAST-MODIFIED:20201214T233505Z
UID:336-1608040800-1608055200@enjoytiverton.org
SUMMARY:Tiverton Winter Farmers Market
DESCRIPTION:A Local Farmers Market situated right smack in the middle of this cozy town of Tiverton\, RI. Connecting the community to FRESH & LOCAL produce\, agriculture & workshops coming soon. \nVendor Line-up \n\n\nBuns Bakery\nScallops\, a cookbook (by Coastal Greens)\nFieldstone Kombucha\nFirefly Mandalas & Meredith Brower Photography\nGabba Gabba Naturals\nGinas Vintage1\nGnarly Vines Farm – Eggs and Meat\nGoddex Apothecary & Vestal Candle\nSalubrious Endeavors\n@seaside.botanicals\nNo Joke Smoke BBQ\nViolet Drury Designs\ngoTeff – superfood\n\n\n 
URL:https://enjoytiverton.org/event/tiverton-winter-farmers-market-2/
LOCATION:Sandywoods Center for the Arts\, 43 Muse Way\, Tiverton\, RI\, United States
CATEGORIES:Fair/market,Feature Event
ATTACH;FMTTYPE=image/jpeg:https://enjoytiverton.org/wp-content/uploads/2020/11/Sandywoods-FarmersMarket.jpg
END:VEVENT
BEGIN:VEVENT
DTSTART;TZID=America/New_York:20201215T180000
DTEND;TZID=America/New_York:20201215T233000
DTSTAMP:20260421T110357
CREATED:20201130T231321Z
LAST-MODIFIED:20201130T231427Z
UID:322-1608055200-1608075000@enjoytiverton.org
SUMMARY:VIRTUAL Retro Game Club – Winter Games Edition: Jackbox
DESCRIPTION:Tuesdays in December\, 6pm in our Discord Server\nJoin us in the Retro Game Club Discord while we play videogames online Tuesday nights in December. Each week will feature a different game to play together. For the final week\, you the players get to select your favorite game. Here is the RGC! Winter Games lineup:\nDecember 1st – Among Us http://www.innersloth.com/gameAmongUs.php \nDecember 8th – Rocket League https://www.rocketleague.com/ \nDecember 15th – Jackbox https://www.jackboxgames.com/ \nDecember 22nd – Brawlhalla https://www.brawlhalla.com/ \nDecember 29th – Players Choice \nYou can visit the RGC! Discord Server any time for videogame resources and information. There are links for your favorite retro and modern games and systems\, as well as resources for playing and making games. The Discord Server also has text and voice chat channels to meet up and play together with your friends.
URL:https://enjoytiverton.org/event/virtual-retro-game-club-winter-games-edition-jackbox/
LOCATION:Tiverton Library\, 34 Roosevelt Ave.\, Tiverton\, RI\, 02878\, United States
CATEGORIES:Games
END:VEVENT
END:VCALENDAR