BEGIN:VCALENDAR
VERSION:2.0
PRODID:-//Enjoy Tiverton - ECPv6.0.11//NONSGML v1.0//EN
CALSCALE:GREGORIAN
METHOD:PUBLISH
X-WR-CALNAME:Enjoy Tiverton
X-ORIGINAL-URL:https://enjoytiverton.org
X-WR-CALDESC:Events for Enjoy Tiverton
REFRESH-INTERVAL;VALUE=DURATION:PT1H
X-Robots-Tag:noindex
X-PUBLISHED-TTL:PT1H
BEGIN:VTIMEZONE
TZID:America/New_York
BEGIN:DAYLIGHT
TZOFFSETFROM:-0500
TZOFFSETTO:-0400
TZNAME:EDT
DTSTART:20200308T070000
END:DAYLIGHT
BEGIN:STANDARD
TZOFFSETFROM:-0400
TZOFFSETTO:-0500
TZNAME:EST
DTSTART:20201101T060000
END:STANDARD
END:VTIMEZONE
BEGIN:VEVENT
DTSTART;TZID=America/New_York:20200307T190000
DTEND;TZID=America/New_York:20200307T220000
DTSTAMP:20260421T063320
CREATED:20200301T033541Z
LAST-MODIFIED:20200301T180615Z
UID:117-1583607600-1583618400@enjoytiverton.org
SUMMARY:Magnolia Cajun Dance
DESCRIPTION:A lesson in Cajun dancing followed by a music concert at the Sandywoods Center.
URL:https://enjoytiverton.org/event/magnolia-cajun-dance/
LOCATION:Sandywoods Center for the Arts\, 43 Muse Way\, Tiverton\, RI\, United States
CATEGORIES:Music
ATTACH;FMTTYPE=image/png:https://enjoytiverton.org/wp-content/uploads/2020/02/magnoliacajundance-featured.png
END:VEVENT
END:VCALENDAR